BEGIN:VCALENDAR
VERSION:2.0
PRODID:-//Project Imo - ECPv6.15.20//NONSGML v1.0//EN
CALSCALE:GREGORIAN
METHOD:PUBLISH
X-WR-CALNAME:Project Imo
X-ORIGINAL-URL:https://projectimo.org
X-WR-CALDESC:Events for Project Imo
REFRESH-INTERVAL;VALUE=DURATION:PT1H
X-Robots-Tag:noindex
X-PUBLISHED-TTL:PT1H
BEGIN:VTIMEZONE
TZID:America/New_York
BEGIN:DAYLIGHT
TZOFFSETFROM:-0500
TZOFFSETTO:-0400
TZNAME:EDT
DTSTART:20240310T070000
END:DAYLIGHT
BEGIN:STANDARD
TZOFFSETFROM:-0400
TZOFFSETTO:-0500
TZNAME:EST
DTSTART:20241103T060000
END:STANDARD
BEGIN:DAYLIGHT
TZOFFSETFROM:-0500
TZOFFSETTO:-0400
TZNAME:EDT
DTSTART:20250309T070000
END:DAYLIGHT
BEGIN:STANDARD
TZOFFSETFROM:-0400
TZOFFSETTO:-0500
TZNAME:EST
DTSTART:20251102T060000
END:STANDARD
BEGIN:DAYLIGHT
TZOFFSETFROM:-0500
TZOFFSETTO:-0400
TZNAME:EDT
DTSTART:20260308T070000
END:DAYLIGHT
BEGIN:STANDARD
TZOFFSETFROM:-0400
TZOFFSETTO:-0500
TZNAME:EST
DTSTART:20261101T060000
END:STANDARD
END:VTIMEZONE
BEGIN:VEVENT
DTSTART;TZID=America/New_York:20251112T160000
DTEND;TZID=America/New_York:20251112T180000
DTSTAMP:20260421T172309
CREATED:20250904T205726Z
LAST-MODIFIED:20251014T200707Z
UID:10000117-1762963200-1762970400@projectimo.org
SUMMARY:Rembrandt with Rocks: Rock painting at the Idea Forge
DESCRIPTION:Rembrandt with Rocks: Rock Painting at the Idea Forge\nBring out your inner artist and join us for an afternoon of creativity and community. Rembrandt with Rocks is a playful workshop where we will transform simple stones into painted works of art. Hosted at the Idea Forge at Base Camp\, this event is designed for all skill levels and is as much about self-expression and fun as it is about technique. Whether you are an experienced painter or someone who has not picked up a brush in years\, you will find a welcoming space to explore your creativity. \nWhy rock painting\nPainting rocks is simple\, approachable\, and surprisingly meaningful. Each stone has its own shape and character\, and when given a splash of color or a thoughtful design\, it becomes something special. Painted rocks can brighten a garden\, become small gifts to share\, or take part in community traditions like rock hunts\, where people leave painted stones in public spaces for others to discover. By participating\, you are not just making art\, you are creating connections and adding joy to the places around you. \nWhat you will do\nIn this two-hour session\, we will move participants through the basics of rock painting\, from selecting and preparing stones to choosing colors\, patterns\, and themes. You will experiment with different brushes and techniques\, try out simple designs\, and\, if you like\, add words or images that carry a personal message. By the end of the workshop\, you will have painted rocks to take home and the option to contribute to a new community rock hunt project launching as part of our Environmental Impact Program experiences. \nWhat to bring\n\nComfortable clothes that you do not mind getting a little paint on.\nYour creativity and ideas\, a few stencils and some inspiration will be provided.\nOptional: small\, smooth rocks you would like to paint. A supply will be provided as well.\n\nThe setting\nThe Idea Forge Creators Space provides a relaxed and creative environment for this workshop. Tables\, supplies\, and materials will be set up to make it easy for everyone to dive in. The atmosphere will be casual and social\, with space for conversation and laughter while painting. \nWho should join\nThis event is open to anyone who enjoys making things by hand or wants to try something new. Families\, individuals\, and groups of friends are welcome. Children are encouraged to participate with an adult’s support. No previous painting experience is necessary\, this is about having fun and expressing yourself. \nThe Takeaway\n\nFinished painted rocks you can keep\, share\, or hide for others to find.\nSimple painting techniques you can use for future creative projects.\nParticipation in a community rock hunt that connects neighbors in a playful way.\nThe joy of spending time in a creative\, supportive setting.\n\nRembrandt with Rocks is more than an art activity. It is a chance to slow down\, create something tangible\, and share that creativity with others. Join us at Base Camp in the Idea Forge and see what happens when imagination meets something as simple as a stone. \nThis is a “Pay what you can” program with a range of ticket prices. All tickets include supplies and a snack.
URL:https://projectimo.org/event/rembrandt-with-rocks-rock-painting-at-the-idea-forge/
LOCATION:Base Camp & Idea Forge Studios\, 54 North Street\, Willimantic\, CT\, 06226\, United States
CATEGORIES:Community Events,Special Events,Tech and Maker Events,Workshops
ATTACH;FMTTYPE=image/webp:/wp-content/uploads/2025/09/Rembrandt-with-Rocks-Rock-Painting-at-the-Idea-Forge.webp
ORGANIZER;CN="Project Imo":MAILTO:teamimo@projectimo.org
END:VEVENT
BEGIN:VEVENT
DTSTART;TZID=America/New_York:20251112T170000
DTEND;TZID=America/New_York:20251112T183000
DTSTAMP:20260421T172309
CREATED:20251009T222013Z
LAST-MODIFIED:20251009T222015Z
UID:10000138-1762966800-1762972200@projectimo.org
SUMMARY:Dungeons & Dragons at Project Imo - The Life Room Week 5
DESCRIPTION:Dungeons & Dragons at Project Imo – The Life Room\nA call to the teens of Project Imo! Join Caspian Horn for a 6-7 week D&D campaign called ‘The Life Room’ that will let you test the bounds of your creative thinking in action & adventure! Jump into the techno-fantasy world of ‘The Life Room’ as you navigate the crisis of ‘The Life Mother’ dying and possibly with her\, the entire world. It’s free to sign up and no prior knowledge of Dungeons & Dragons or tabletop role playing is needed! This campaign is entirely beginner friendly! Sessions will be from 5:00 pm to 6:30 pm every Wednesday!   \nPlot:  \nYou live in a world in which every creature is born to an ancient technological facility called ‘The Life Room’. The last remnant of a civilization mysteriously wiped from the planet\, a being known as ‘The Life Mother’ is suspended in the center of this enormous room of wires and beeping machines.  \nYou are among the last batch that The Life Mother has the strength to create. With a little added boost from her determination to see her world continue\, you are special.  \nYou must find the last ‘source’ being compatible with the life room before The Life Mother passes and life as it exists changes forever. 
URL:https://projectimo.org/event/dungeons-dragons-at-project-imo-the-life-room-week-5/
LOCATION:Base Camp & Idea Forge Studios\, 54 North Street\, Willimantic\, CT\, 06226\, United States
CATEGORIES:Community Events,Special Events,Workshops
ATTACH;FMTTYPE=image/webp:/wp-content/uploads/2025/10/The-Life-Room-Dungeons-and-Dragons-Campaign-at-Project-Imo.webp
ORGANIZER;CN="Project Imo":MAILTO:teamimo@projectimo.org
END:VEVENT
END:VCALENDAR