BEGIN:VCALENDAR
VERSION:2.0
PRODID:-//Project Imo - ECPv6.15.20//NONSGML v1.0//EN
CALSCALE:GREGORIAN
METHOD:PUBLISH
X-ORIGINAL-URL:https://projectimo.org
X-WR-CALDESC:Events for Project Imo
REFRESH-INTERVAL;VALUE=DURATION:PT1H
X-Robots-Tag:noindex
X-PUBLISHED-TTL:PT1H
BEGIN:VTIMEZONE
TZID:America/New_York
BEGIN:DAYLIGHT
TZOFFSETFROM:-0500
TZOFFSETTO:-0400
TZNAME:EDT
DTSTART:20240310T070000
END:DAYLIGHT
BEGIN:STANDARD
TZOFFSETFROM:-0400
TZOFFSETTO:-0500
TZNAME:EST
DTSTART:20241103T060000
END:STANDARD
BEGIN:DAYLIGHT
TZOFFSETFROM:-0500
TZOFFSETTO:-0400
TZNAME:EDT
DTSTART:20250309T070000
END:DAYLIGHT
BEGIN:STANDARD
TZOFFSETFROM:-0400
TZOFFSETTO:-0500
TZNAME:EST
DTSTART:20251102T060000
END:STANDARD
BEGIN:DAYLIGHT
TZOFFSETFROM:-0500
TZOFFSETTO:-0400
TZNAME:EDT
DTSTART:20260308T070000
END:DAYLIGHT
BEGIN:STANDARD
TZOFFSETFROM:-0400
TZOFFSETTO:-0500
TZNAME:EST
DTSTART:20261101T060000
END:STANDARD
END:VTIMEZONE
BEGIN:VEVENT
DTSTART;TZID=America/New_York:20251102T090000
DTEND;TZID=America/New_York:20251102T120000
DTSTAMP:20260421T172519
CREATED:20250904T201244Z
LAST-MODIFIED:20251030T132017Z
UID:10000116-1762074000-1762084800@projectimo.org
SUMMARY:Community Invasive Species Cleanup at the Preserve - Return of the Trail Crew
DESCRIPTION:Community Invasive Species Cleanup at the Preserve: Return of the Trail Crew\nEvery story needs a strong finish\, and this is ours. After starting downtown with A New Hope and then standing up to mugwort in The Mugwort Strikes Back\, we now head into the Windham Outdoor Education Preserve for the final part of our invasive species cleanup series. Return of the Trail Crew is where everything we’ve learned comes together in a space that shows both the challenges and the possibilities of caring for the land we share. \nWhy the preserve matters\nThe preserve is more than just trails and trees. It is a living classroom\, a gathering place\, and a glimpse of what healthy ecosystems can look like when they are supported and protected. But like the downtown spaces we’ve worked on\, the preserve is also under pressure. Invasive plants threaten to spread along the trails\, choke out native growth\, and weaken the biodiversity that makes this place so special. \nBy taking our cleanup efforts here\, we are stepping into a deeper level of stewardship. This is not just about tidying up. It is about actively restoring balance to an environment where birds\, pollinators\, and native plants depend on us to make space for them to thrive. \nWhat you’ll do\nWe will begin with a walk through the preserve to identify invasive species in a natural setting. You’ll see how they spread along the trails and into the understory\, and you’ll learn how to recognize them in the middle of a forest environment rather than a sidewalk crack or downtown lot. From there\, we’ll spend time on hands-on removal\, focusing on key areas where invasives threaten to push out native plants. \nWorking in the preserve brings its own rewards. Every patch we clear opens the door for healthier growth and improves the experience for future visitors. You’ll leave with a sense of how small\, steady actions make a visible difference in larger natural spaces. \nBuilding on the series\nReturn of the Trail Crew is the final chapter in our three-part series on combating invasive species. Together we have raised awareness\, practiced identification\, and taken action downtown. We’ve faced one of the most stubborn plants in our area with persistence and teamwork. Now\, in this last event\, we bring that knowledge into the preserve\, where the work connects directly to the future of our trails and outdoor education efforts. \nYou don’t need to have attended the first two events to join this one\, but if you did\, this is your chance to put everything you’ve learned into action. And even if this is your first time\, you’ll be part of something that is bigger than one cleanup. You’ll be contributing to a series of steps that show what is possible when a community commits to restoring its natural spaces. \nWhat you’ll take away\nBy the end of the event\, you’ll leave with: \n\nThe ability to identify invasives in both urban and natural settings.\nHands-on experience in trail and preserve stewardship.\nA deeper connection to the preserve as a shared community resource.\nThe satisfaction of knowing you’ve helped make space for native species to return.\n\nWhy it matters\nRestoring balance is a long-term project. Invasives will not disappear overnight\, but every effort makes the preserve stronger. Each person who shows up adds to the collective power of our community to care for the land. When we return to hike\, bike\, or simply walk the trails\, we’ll know we played a part in making them healthier. \nReturn of the Trail Crew is more than the end of a series. It is a reminder that stewardship is ongoing and that by working together\, we can leave behind a legacy of care for those who come after us.
URL:https://projectimo.org/event/community-invasive-species-cleanup-at-the-preserve-return-of-the-trail-crew/
LOCATION:Base Camp & Idea Forge Studios\, 54 North Street\, Willimantic\, CT\, 06226\, United States
CATEGORIES:Community Events,Special Events
ATTACH;FMTTYPE=image/webp:/wp-content/uploads/2025/09/Community-Invasive-Species-Cleanup-Return-of-the-Trail-Crew-Feature.webp
ORGANIZER;CN="Project Imo":MAILTO:teamimo@projectimo.org
END:VEVENT
END:VCALENDAR