BEGIN:VCALENDAR
VERSION:2.0
PRODID:-//Project Imo - ECPv6.15.20//NONSGML v1.0//EN
CALSCALE:GREGORIAN
METHOD:PUBLISH
X-WR-CALNAME:Project Imo
X-ORIGINAL-URL:https://projectimo.org
X-WR-CALDESC:Events for Project Imo
REFRESH-INTERVAL;VALUE=DURATION:PT1H
X-Robots-Tag:noindex
X-PUBLISHED-TTL:PT1H
BEGIN:VTIMEZONE
TZID:America/New_York
BEGIN:DAYLIGHT
TZOFFSETFROM:-0500
TZOFFSETTO:-0400
TZNAME:EDT
DTSTART:20240310T070000
END:DAYLIGHT
BEGIN:STANDARD
TZOFFSETFROM:-0400
TZOFFSETTO:-0500
TZNAME:EST
DTSTART:20241103T060000
END:STANDARD
BEGIN:DAYLIGHT
TZOFFSETFROM:-0500
TZOFFSETTO:-0400
TZNAME:EDT
DTSTART:20250309T070000
END:DAYLIGHT
BEGIN:STANDARD
TZOFFSETFROM:-0400
TZOFFSETTO:-0500
TZNAME:EST
DTSTART:20251102T060000
END:STANDARD
BEGIN:DAYLIGHT
TZOFFSETFROM:-0500
TZOFFSETTO:-0400
TZNAME:EDT
DTSTART:20260308T070000
END:DAYLIGHT
BEGIN:STANDARD
TZOFFSETFROM:-0400
TZOFFSETTO:-0500
TZNAME:EST
DTSTART:20261101T060000
END:STANDARD
END:VTIMEZONE
BEGIN:VEVENT
DTSTART;TZID=America/New_York:20251007T163000
DTEND;TZID=America/New_York:20251007T190000
DTSTAMP:20260421T152801
CREATED:20251004T131239Z
LAST-MODIFIED:20251005T114357Z
UID:10000131-1759854600-1759863600@projectimo.org
SUMMARY:Abra-Creator!  Magic Wand Making Workshop
DESCRIPTION:Step into the Idea Forge Creators Space and bring your wizarding imagination to life! Project Imo and Idea Forge staff will guide you through crafting your very own magic wand—starting with a sturdy wooden stock\, glue\, and paint\, then moving on to decorating and personalizing it with your own magical flair. \nThis all-ages workshop is designed for creativity at your pace: spend 20 minutes\, forty\, or the whole three hours making your wand uniquely yours. Whether you’re a young witch or wizard\, a parent\, or just a curious creator\, you’ll leave with a wand that feels like it was made for you. \n\n\nAll Ages Welcome \n\n\nYouth under 13 must be accompanied by an adult \n\n\nFree Event – Donations Gladly Accepted (your support helps keep this and other community programs free!) \n\n\nAll participants are encouraged to make a second wand to leave behind for our dedicated youth and volunteers to give out to children on Halloween! \nThis workshop is part of our Spooktastic Halloween 2025 Series. Be sure to also check out our Masquerade Painting event and our Community Halloween Party for even more festive fun. \n🪄 Join us and make the magic your own—one wand at a time. Spots are open for the full three hours\, so come when you can and stay as long as you’d like! \n  \n 
URL:https://projectimo.org/event/abra-creator-magic-wand-making-workshop/
LOCATION:Base Camp & Idea Forge Studios\, 54 North Street\, Willimantic\, CT\, 06226\, United States
CATEGORIES:Community Events,Special Events,Spookastic Halloween,Teen Center Programs,Workshops
ATTACH;FMTTYPE=image/png:/wp-content/uploads/2025/10/Magic-Wand-Workshop-Presentation-scaled.png
ORGANIZER;CN="Project Imo":MAILTO:teamimo@projectimo.org
END:VEVENT
END:VCALENDAR