BEGIN:VCALENDAR
VERSION:2.0
PRODID:-//Project Imo - ECPv6.15.20//NONSGML v1.0//EN
CALSCALE:GREGORIAN
METHOD:PUBLISH
X-WR-CALNAME:Project Imo
X-ORIGINAL-URL:https://projectimo.org
X-WR-CALDESC:Events for Project Imo
REFRESH-INTERVAL;VALUE=DURATION:PT1H
X-Robots-Tag:noindex
X-PUBLISHED-TTL:PT1H
BEGIN:VTIMEZONE
TZID:America/New_York
BEGIN:DAYLIGHT
TZOFFSETFROM:-0500
TZOFFSETTO:-0400
TZNAME:EDT
DTSTART:20240310T070000
END:DAYLIGHT
BEGIN:STANDARD
TZOFFSETFROM:-0400
TZOFFSETTO:-0500
TZNAME:EST
DTSTART:20241103T060000
END:STANDARD
BEGIN:DAYLIGHT
TZOFFSETFROM:-0500
TZOFFSETTO:-0400
TZNAME:EDT
DTSTART:20250309T070000
END:DAYLIGHT
BEGIN:STANDARD
TZOFFSETFROM:-0400
TZOFFSETTO:-0500
TZNAME:EST
DTSTART:20251102T060000
END:STANDARD
BEGIN:DAYLIGHT
TZOFFSETFROM:-0500
TZOFFSETTO:-0400
TZNAME:EDT
DTSTART:20260308T070000
END:DAYLIGHT
BEGIN:STANDARD
TZOFFSETFROM:-0400
TZOFFSETTO:-0500
TZNAME:EST
DTSTART:20261101T060000
END:STANDARD
END:VTIMEZONE
BEGIN:VEVENT
DTSTART;TZID=America/New_York:20250922T160000
DTEND;TZID=America/New_York:20250922T200000
DTSTAMP:20260421T172335
CREATED:20250904T193242Z
LAST-MODIFIED:20250922T150313Z
UID:10000105-1758556800-1758571200@projectimo.org
SUMMARY:Finding Stories in Science
DESCRIPTION:Finding Stories in Science: Essentials of Storytelling with Data and Impact\nScience is everywhere. It shows up in the air we breathe\, the food we eat\, and the choices we make about how to care for our communities. But science by itself doesn’t always move people to care or act. What makes the difference is how the story is told. When you hear about a researcher who discovered something new\, or a neighbor who noticed changes in the local stream\, it’s the story that makes you remember and want to do something about it. \nThis workshop is built around that simple but powerful idea. For our time together\, we’ll explore how to turn facts and data into stories that connect. Led by our very lover of science and fantastic storyteller Jason Hyland (Jay)\, you’ll get the chance to listen\, practice\, and create alongside others who care about making science more meaningful and accessible. \nWhy we start with stories\nNumbers and graphs are important\, but they don’t usually stick in people’s minds. Think about climate change. A chart can show a rise in temperature\, but hearing how it affects a farmer’s crops or a family’s daily life makes it real. That is the heart of storytelling. It is about putting a human face on information and inviting people to see themselves in the bigger picture. \nWhat we will do together\nThis session is not a lecture. It is a mix of short lessons\, examples\, and hands-on practice. You will learn: \n\nHow to recognize the elements of a good story such as a character\, a challenge\, and a resolution.\nHow to take complicated ideas and make them understandable without losing the important details.\nHow to shape your message for different audiences whether it is a classroom\, a community meeting\, or a friend who is curious.\nHow to share your story out loud and get feedback in a supportive space.\n\nBy the end\, you will have started shaping a story of your own. It could be about a project you’re working on\, a local issue you care about\, or even a favorite science fact that you want to share in a new way. \nHow the time will flow\nWe’ll begin by looking at a number of examples from scientists\, teachers\, and advocates who have used stories to bring attention to their work. We will take time to explore in small groups to identify the “characters” and “conflicts” in your own area of interest. Time will be allotted to make sure we all have time to practice in a format or two\, possibly experiment on how to present it\, and learn how a small shift in perspective\, wording\, focus can make a big difference. \nWho should come\nThis workshop is for anyone who wants to feel more confident talking about science. You don’t need to be a professional speaker or writer. You just need curiosity and a willingness to practice. Students\, educators\, researchers\, and community members are all welcome. \nWhy it matters for our community\nAt Project Imo\, we believe knowledge is meant to be shared. When people can tell science stories in ways that feel clear and relatable\, the whole community benefits. It means local issues like invasive species\, conservation\, or climate impacts can be talked about in ways that lead to real conversations and real change. \nWhat you’ll take away\nBy the end of the session you will have: \n\nA draft of a story you can share with others.\nTools for simplifying and clarifying information.\nMore confidence in speaking and writing about topics you care about.\nA new understanding of how your voice can support the work of building a healthier community and environment.\n\nJoin us\nFinding Stories in Science is about giving you a chance to discover your own voice and how it can make a difference. Together we’ll practice\, encourage one another\, and come away with stories that connect people to the science that matters most.
URL:https://projectimo.org/event/finding-stories-in-science/
LOCATION:Base Camp & Idea Forge Studios\, 54 North Street\, Willimantic\, CT\, 06226\, United States
CATEGORIES:Community Events,Workshops
ATTACH;FMTTYPE=image/webp:/wp-content/uploads/2025/09/Finding-Stories-in-Science-Essentials-of-Storytelling-with-Data-and-Impact.webp
ORGANIZER;CN="Project Imo":MAILTO:teamimo@projectimo.org
END:VEVENT
END:VCALENDAR