BEGIN:VCALENDAR
VERSION:2.0
PRODID:-//Project Imo - ECPv6.15.20//NONSGML v1.0//EN
CALSCALE:GREGORIAN
METHOD:PUBLISH
X-WR-CALNAME:Project Imo
X-ORIGINAL-URL:https://projectimo.org
X-WR-CALDESC:Events for Project Imo
REFRESH-INTERVAL;VALUE=DURATION:PT1H
X-Robots-Tag:noindex
X-PUBLISHED-TTL:PT1H
BEGIN:VTIMEZONE
TZID:America/New_York
BEGIN:DAYLIGHT
TZOFFSETFROM:-0500
TZOFFSETTO:-0400
TZNAME:EDT
DTSTART:20240310T070000
END:DAYLIGHT
BEGIN:STANDARD
TZOFFSETFROM:-0400
TZOFFSETTO:-0500
TZNAME:EST
DTSTART:20241103T060000
END:STANDARD
BEGIN:DAYLIGHT
TZOFFSETFROM:-0500
TZOFFSETTO:-0400
TZNAME:EDT
DTSTART:20250309T070000
END:DAYLIGHT
BEGIN:STANDARD
TZOFFSETFROM:-0400
TZOFFSETTO:-0500
TZNAME:EST
DTSTART:20251102T060000
END:STANDARD
BEGIN:DAYLIGHT
TZOFFSETFROM:-0500
TZOFFSETTO:-0400
TZNAME:EDT
DTSTART:20260308T070000
END:DAYLIGHT
BEGIN:STANDARD
TZOFFSETFROM:-0400
TZOFFSETTO:-0500
TZNAME:EST
DTSTART:20261101T060000
END:STANDARD
END:VTIMEZONE
BEGIN:VEVENT
DTSTART;TZID=America/New_York:20250917T160000
DTEND;TZID=America/New_York:20250917T170000
DTSTAMP:20260421T172253
CREATED:20250902T233245Z
LAST-MODIFIED:20250902T235258Z
UID:10000123-1758124800-1758128400@projectimo.org
SUMMARY:Youth Environmental Leadership Corps Meeting
DESCRIPTION:This is a regular meeting of the Environmental Impact Program’s Youth Environmental Leadership Corps.\nMeetings will be bi-weekly from September through December on the first and third Wednesdays of each month. Members will get 1 hour of stipend credit for attending. Members do not need to attend all meetings\, but should attend 1 meeting per month either virtually or in-person.\nELC Members must register with a free “ticket” and select “In Person” or “Virtual” as their attendance option.\nDuring each meeting we will discuss ongoing conservation topics\, work on our ELC projects\, and plan community events. On evenings when a Environmental Impact Program workshop or community event is overlapping\, the meeting will be helping to lead the event.
URL:https://projectimo.org/event/youth-environmental-leadership-corps-meeting/2025-09-17/
LOCATION:54 North St\, Willimantic\, CT\, United States
CATEGORIES:Environmental Impact Program,Teen Center Programs,Youth ELC Meeting
ATTACH;FMTTYPE=image/webp:/wp-content/uploads/2025/05/environmental-impact-program-youth-promise-project-imo-conservation.webp
ORGANIZER;CN="Project Imo":MAILTO:teamimo@projectimo.org
GEO:41.71527;-72.21731
END:VEVENT
END:VCALENDAR