BEGIN:VCALENDAR
VERSION:2.0
PRODID:-//Project Imo - ECPv6.15.20//NONSGML v1.0//EN
CALSCALE:GREGORIAN
METHOD:PUBLISH
X-WR-CALNAME:Project Imo
X-ORIGINAL-URL:https://projectimo.org
X-WR-CALDESC:Events for Project Imo
REFRESH-INTERVAL;VALUE=DURATION:PT1H
X-Robots-Tag:noindex
X-PUBLISHED-TTL:PT1H
BEGIN:VTIMEZONE
TZID:America/New_York
BEGIN:DAYLIGHT
TZOFFSETFROM:-0500
TZOFFSETTO:-0400
TZNAME:EDT
DTSTART:20240310T070000
END:DAYLIGHT
BEGIN:STANDARD
TZOFFSETFROM:-0400
TZOFFSETTO:-0500
TZNAME:EST
DTSTART:20241103T060000
END:STANDARD
BEGIN:DAYLIGHT
TZOFFSETFROM:-0500
TZOFFSETTO:-0400
TZNAME:EDT
DTSTART:20250309T070000
END:DAYLIGHT
BEGIN:STANDARD
TZOFFSETFROM:-0400
TZOFFSETTO:-0500
TZNAME:EST
DTSTART:20251102T060000
END:STANDARD
BEGIN:DAYLIGHT
TZOFFSETFROM:-0500
TZOFFSETTO:-0400
TZNAME:EDT
DTSTART:20260308T070000
END:DAYLIGHT
BEGIN:STANDARD
TZOFFSETFROM:-0400
TZOFFSETTO:-0500
TZNAME:EST
DTSTART:20261101T060000
END:STANDARD
END:VTIMEZONE
BEGIN:VEVENT
DTSTART;VALUE=DATE:20250816
DTEND;VALUE=DATE:20250902
DTSTAMP:20260421T172222
CREATED:20250816T130645Z
LAST-MODIFIED:20250901T195340Z
UID:10000103-1755302400-1756771199@projectimo.org
SUMMARY:IDEA FORGE TEMPORARILY CLOSED FOR RELOCATION
DESCRIPTION:EXCITING NEWS\, WE’RE MOVING!\nProject Imo’s Base Camp and Idea Forge Creators Space will be temporarily closed while we move to a larger facility in downtown Willimantic\, CT.\nWe are thrilled to be moving to 54 North St\, Willimantic\, CT\, 06226 and sharing an exciting new space with our partners at NAFI CT.\nDuring our move\, our Idea Forge Creators Space and general open programming will be closed to relocate. Idea Forge members will have limited access to certain workstations. If you have a specific project you’re working on\, let us know and we’ll arrange to make the move as minimally disruptive as possible. Your membership will be extended for 2 weeks to accommodate the interruption.\nSpecial programs such as the Windham Prevention Coalition Youth Leadership Council Summit on Monday\, August 25th will continue as planned at our Base Camp facility and the space at our amazing partners\, The River Room.\nTo learn more\, email teamimo@projectimo.org or call 860-786-5799.
URL:https://projectimo.org/event/idea-forge-temporarily-closed-for-relocation/
LOCATION:CT
CATEGORIES:Tech and Maker Events
ATTACH;FMTTYPE=image/webp:/wp-content/uploads/2025/04/Project-Imo-Feature-Image-General.webp
END:VEVENT
BEGIN:VEVENT
DTSTART;VALUE=DATE:20250816
DTEND;VALUE=DATE:20250902
DTSTAMP:20260421T172222
CREATED:20250816T130906Z
LAST-MODIFIED:20250901T193827Z
UID:10000104-1755302400-1756771199@projectimo.org
SUMMARY:PROJECT IMO BASE CAMP TEMPORARILY CLOSED FOR RELOCATION
DESCRIPTION:EXCITING NEWS\, WE’RE MOVING!\nProject Imo’s Base Camp and Idea Forge Creators Space will be temporarily closed while we move to a larger facility in downtown Willimantic\, CT.\nWe are thrilled to be moving to 54 North St\, Willimantic\, CT\, 06226 and sharing an exciting new space with our partners at NAFI CT.\nDuring our move\, our Idea Forge Creators Space and general open programming will be closed to relocate. Idea Forge members will have limited access to certain workstations. If you have a specific project you’re working on\, let us know and we’ll arrange to make the move as minimally disruptive as possible. Your membership will be extended for 2 weeks to accommodate the interruption.\nSpecial programs such as the Windham Prevention Coalition Youth Leadership Council Summit on Monday\, August 25th will continue as planned at our Base Camp facility and the space at our amazing partners\, The River Room.\nTo learn more\, email teamimo@projectimo.org or call 860-786-5799.
URL:https://projectimo.org/event/idea-forge-temporarily-closed-for-relocation-2/
LOCATION:CT
CATEGORIES:Teen Center Programs
ATTACH;FMTTYPE=image/webp:/wp-content/uploads/2025/04/Project-Imo-Feature-Image-General.webp
END:VEVENT
BEGIN:VEVENT
DTSTART;TZID=America/New_York:20250825T090000
DTEND;TZID=America/New_York:20250825T150000
DTSTAMP:20260421T172222
CREATED:20250812T183651Z
LAST-MODIFIED:20250812T183651Z
UID:10000102-1756112400-1756134000@projectimo.org
SUMMARY:WPC Youth Leadership Council- Leadership Summit - August 2025
DESCRIPTION:Join the Youth Leadership Council for a dynamic one-day Youth Leadership Summit on Monday\, August 25\, 2025\, from 9:00 AM to 3:00 PM. Open to area youth ages 13–18 and any member of the Windham Prevention Coalition Youth Leadership Council\, this summit brings together emerging leaders for an engaging experience packed with team building\, outdoor challenges\, and real-world leadership practice. Designed specifically for members of the Youth Leadership Council\, the event will empower participants through youth-led problem-solving dialogues\, high-energy group activities\, and skill-building sessions that inspire confidence and community action. \nHosted at Project Imo’s Base Camp in Willimantic\, the summit begins each morning with check-in and group activities before heading out for weather-permitting outdoor initiatives. Rain or shine\, we’ll be in action—though hazardous weather will result in cancellation. Lunch is included and participants should come dressed to move\, think\, and lead. \nQuick Details: \n\nDates: Monday\, August 25\, 2025\nTime: 9:00 AM – 3:00 PM each day\nLocation: Base Camp\, Willimantic\, CT\nLunch provided both days.\nSeats are limited so register early. \nPriority is given to members of the YLC.\nOutdoor activities (weather permitting)\, short walk from Base Camp.\nActivities include:\n\nTeam-building initiatives\nYouth-led leadership challenges\nCommunication & problem-solving games\nStrategy-building workshops\nReflective group dialogues\n\n\n\n  \nParents with youth not currently members of Project Imo’s Base Camp Teen Center will need to sign program release forms which will be sent out after accepted registration. Membership of our teen center is free for people 13-18 and all registrants are welcome to register. \n  \nEmail teamimo@projectimo.org or call 860-786-5799 with questions.
URL:https://projectimo.org/event/wpc-youth-leadership-council-leadership-summit-august-2025/
LOCATION:Base Camp & Idea Forge Studios\, 54 North Street\, Willimantic\, CT\, 06226\, United States
ATTACH;FMTTYPE=image/jpeg:/wp-content/uploads/2025/08/2025-Aug-YLC-Leadership-Series.jpg
ORGANIZER;CN="Project Imo":MAILTO:teamimo@projectimo.org
END:VEVENT
END:VCALENDAR