BEGIN:VCALENDAR
VERSION:2.0
PRODID:-//Project Imo - ECPv6.15.20//NONSGML v1.0//EN
CALSCALE:GREGORIAN
METHOD:PUBLISH
X-WR-CALNAME:Project Imo
X-ORIGINAL-URL:https://projectimo.org
X-WR-CALDESC:Events for Project Imo
REFRESH-INTERVAL;VALUE=DURATION:PT1H
X-Robots-Tag:noindex
X-PUBLISHED-TTL:PT1H
BEGIN:VTIMEZONE
TZID:America/New_York
BEGIN:DAYLIGHT
TZOFFSETFROM:-0500
TZOFFSETTO:-0400
TZNAME:EDT
DTSTART:20240310T070000
END:DAYLIGHT
BEGIN:STANDARD
TZOFFSETFROM:-0400
TZOFFSETTO:-0500
TZNAME:EST
DTSTART:20241103T060000
END:STANDARD
BEGIN:DAYLIGHT
TZOFFSETFROM:-0500
TZOFFSETTO:-0400
TZNAME:EDT
DTSTART:20250309T070000
END:DAYLIGHT
BEGIN:STANDARD
TZOFFSETFROM:-0400
TZOFFSETTO:-0500
TZNAME:EST
DTSTART:20251102T060000
END:STANDARD
BEGIN:DAYLIGHT
TZOFFSETFROM:-0500
TZOFFSETTO:-0400
TZNAME:EDT
DTSTART:20260308T070000
END:DAYLIGHT
BEGIN:STANDARD
TZOFFSETFROM:-0400
TZOFFSETTO:-0500
TZNAME:EST
DTSTART:20261101T060000
END:STANDARD
END:VTIMEZONE
BEGIN:VEVENT
DTSTART;TZID=America/New_York:20250806T140000
DTEND;TZID=America/New_York:20250806T160000
DTSTAMP:20260421T205959
CREATED:20250723T225249Z
LAST-MODIFIED:20250723T225906Z
UID:10000097-1754488800-1754496000@projectimo.org
SUMMARY:Twist & Tangle: A Paracord Crafting Experience
DESCRIPTION:Knot your average workshop! \nJoin us at The Idea Forge Creators Space for Twist & Tangle\, an introductory workshop on the creative and practical world of paracord crafting. Whether you’re into survival tools\, wearable art\, or just love a hands-on project\, this session is the perfect chance to explore this durable and colorful material in fun and functional ways. \nParticipants will learn basic knotting techniques and walk away with at least one custom paracord project such as a bracelet\, keychain\, lanyard\, or zipper pull. Along the way\, you’ll explore color combos\, tension control\, and various design styles while learning how these tools are used in outdoor and everyday settings. \nNo experience necessary\, we’ll guide you step-by-step and provide all the cord\, buckles\, and supplies you’ll need. \nWhat you’ll learn: \n\n\nHow to measure and cut paracord for different projects \n\n\nGeneral basic knots and ties \n\n\nHow to finish and secure your work cleanly \n\n\nCreative applications from fashion to function \n\n\nWhether you’re crafting for fun\, gifting\, or prepping for your next outdoor adventure\, this workshop offers a colorful\, skill-building experience. \nAll ages welcome! Recommended donation: $5 for supplies. Snacks available by donation too.
URL:https://projectimo.org/event/twist-tangle-a-paracord-crafting-experience/
LOCATION:Base Camp & Idea Forge Studios\, 54 North Street\, Willimantic\, CT\, 06226\, United States
CATEGORIES:Community Events,Wednesday Workshops,Workshops
ATTACH;FMTTYPE=image/webp:/wp-content/uploads/2025/07/A-Paracord-Crafting-Experience-wednesday-workshop.webp
ORGANIZER;CN="Project Imo":MAILTO:teamimo@projectimo.org
END:VEVENT
END:VCALENDAR