BEGIN:VCALENDAR
VERSION:2.0
PRODID:-//Project Imo - ECPv6.15.20//NONSGML v1.0//EN
CALSCALE:GREGORIAN
METHOD:PUBLISH
X-WR-CALNAME:Project Imo
X-ORIGINAL-URL:https://projectimo.org
X-WR-CALDESC:Events for Project Imo
REFRESH-INTERVAL;VALUE=DURATION:PT1H
X-Robots-Tag:noindex
X-PUBLISHED-TTL:PT1H
BEGIN:VTIMEZONE
TZID:America/New_York
BEGIN:DAYLIGHT
TZOFFSETFROM:-0500
TZOFFSETTO:-0400
TZNAME:EDT
DTSTART:20240310T070000
END:DAYLIGHT
BEGIN:STANDARD
TZOFFSETFROM:-0400
TZOFFSETTO:-0500
TZNAME:EST
DTSTART:20241103T060000
END:STANDARD
BEGIN:DAYLIGHT
TZOFFSETFROM:-0500
TZOFFSETTO:-0400
TZNAME:EDT
DTSTART:20250309T070000
END:DAYLIGHT
BEGIN:STANDARD
TZOFFSETFROM:-0400
TZOFFSETTO:-0500
TZNAME:EST
DTSTART:20251102T060000
END:STANDARD
BEGIN:DAYLIGHT
TZOFFSETFROM:-0500
TZOFFSETTO:-0400
TZNAME:EDT
DTSTART:20260308T070000
END:DAYLIGHT
BEGIN:STANDARD
TZOFFSETFROM:-0400
TZOFFSETTO:-0500
TZNAME:EST
DTSTART:20261101T060000
END:STANDARD
END:VTIMEZONE
BEGIN:VEVENT
DTSTART;TZID=America/New_York:20250602T160000
DTEND;TZID=America/New_York:20250602T210000
DTSTAMP:20260422T004322
CREATED:20250409T175542Z
LAST-MODIFIED:20250531T164530Z
UID:10000038-1748880000-1748898000@projectimo.org
SUMMARY:Idea Forge Creators Space Open Hours
DESCRIPTION:Welcome to your creative sanctuary. \nMember Hours at the Idea Forge Creators Space are more then just open access! \nIt is time dedicated for focused creation\, skill-building\, and community connection. \n \nAs a Member\, You’ll Have Access To:\n\nAdvanced manufacturing equipment: 3D printers\, laser cutters\, & more\nTextile & craft stations: embroidery\, Cricut\, sewing machines\, printing setups\nDigital media workstations: audio/video production\, graphic design\, 3D modeling\nSmall business launch tools: packaging supplies\, product photography\, and media resources\nA thriving creative community: collaborate\, troubleshoot\, and level up with others\n\n  \nThis is where your ideas take shape. Whether you’re prototyping a product\, editing a film\, building a brand\, or experimenting with textiles\, you’ll have space\, time\, and tools at your fingertips along with a network of fellow makers and mentors. \n \nMembers also get:\n\nExclusive invites to workshops and creators workshops\nFirst access to new gear and programs\nStaff support and training during select hours\nPriority booking for tools and stations\n\nYour membership fuels the space and your creative growth. \nJoin us during Member Hours to make progress on your ideas\, explore new skills\, or simply spend time in a space built to inspire. \nLearn more about membership and tools
URL:https://projectimo.org/event/idea-forge-creators-space-member-hours-17/
LOCATION:Base Camp & Idea Forge Studios\, 54 North Street\, Willimantic\, CT\, 06226\, United States
CATEGORIES:Member Hours,Tech and Maker Events
ATTACH;FMTTYPE=image/webp:/wp-content/uploads/2025/04/Idea-Forge-Featured-Image-on-Member-Hours.webp
ORGANIZER;CN="Project Imo":MAILTO:teamimo@projectimo.org
END:VEVENT
BEGIN:VEVENT
DTSTART;TZID=America/New_York:20250602T160000
DTEND;TZID=America/New_York:20250602T210000
DTSTAMP:20260422T004322
CREATED:20250531T164807Z
LAST-MODIFIED:20250531T164807Z
UID:10000072-1748880000-1748898000@projectimo.org
SUMMARY:Free Drop in Board Gaming Night
DESCRIPTION:Drop-In Board Game Night at Base Camp – Everyone’s Welcome!\nPlay. Connect. Explore.\nLooking for something fun\, social\, and screen-free to do? Whether you’re a seasoned tabletop tactician or totally new to board games\, our Drop-In Board Game Night at Base Camp is the perfect way to unwind\, meet new people\, and discover the joy of game night in a welcoming\, all-ages environment. \nBring your friends—or come solo and join a table—and enjoy full access to our expansive community game library. From quick\, quirky party games to deep strategy adventures\, there’s something here for everyone. \nJust a few of the titles in our board gaming collection include:\nSettlers of Catan • Carcassonne • Unmatched • Exploding Kittens • Forbidden Island • Evolution Climate Change • Heroclix Marvel • Talisman • Dark Moon • Earth • Betrayal at the House on the Hill • Arkham Horror • Munchkin • Unfathomable • Ticket to Ride • Dungeons and Dragons • Savage Worlds • Marvel Multiverse RPG • Starfinder • Poetry for Neanderthals • Once Upon a Time • Happy Salmon • Kodama • Keepers of the Questar (written by one of our very own Project Imo board members!) • And dozens more! \nWhether you’re into cooperative strategy\, fast-paced card chaos\, storytelling games\, or classic titles like Chess\, Checkers\, and Uno\, we’ve got you covered. We’ll also have light tunes playing and comfy spaces where you can kick back\, hang out\, and enjoy the vibe. \nNo registration\, no cost—just drop in!Our friendly team will be there to help match you with games\, explain rules\, and help you settle in for an awesome night of connection and creativity.\nAnd while you’re here\, be sure to check out the Idea Forge Creators Space—our hands-on creative hub filled with tools\, inspiration\, and opportunities for artists\, inventors\, hobbyists\, and entrepreneurs of all ages. Learn more about the Idea Forge here. \nBase Camp- it’s your community hangout.Let the dice roll\, the cards fly\, and the stories unfold. Game night is on—will we see you there? \nChildren under the age of 13 must be accompanied by a parent\, guardian\, or responsible adult at all times.
URL:https://projectimo.org/event/free-drop-in-board-gaming-night-2/
LOCATION:Base Camp & Idea Forge Studios\, 54 North Street\, Willimantic\, CT\, 06226\, United States
CATEGORIES:Community Events,Special Events,Tech and Maker Events,Workshops
ATTACH;FMTTYPE=image/webp:/wp-content/uploads/2025/04/Free-Board-Game-Night-Catan-Tabletop-Gaming.webp
ORGANIZER;CN="Project Imo":MAILTO:teamimo@projectimo.org
END:VEVENT
END:VCALENDAR